BEGIN:VCALENDAR
VERSION:2.0
PRODID:-//公益社団法人東京青年会議所｜東京JC - ECPv6.15.11//NONSGML v1.0//EN
CALSCALE:GREGORIAN
METHOD:PUBLISH
X-WR-CALNAME:公益社団法人東京青年会議所｜東京JC
X-ORIGINAL-URL:https://tokyo-jc.or.jp
X-WR-CALDESC:公益社団法人東京青年会議所｜東京JC のイベント
REFRESH-INTERVAL;VALUE=DURATION:PT1H
X-Robots-Tag:noindex
X-PUBLISHED-TTL:PT1H
BEGIN:VTIMEZONE
TZID:Asia/Tokyo
BEGIN:STANDARD
TZOFFSETFROM:+0900
TZOFFSETTO:+0900
TZNAME:JST
DTSTART:20210101T000000
END:STANDARD
END:VTIMEZONE
BEGIN:VEVENT
DTSTART;TZID=Asia/Tokyo:20221029T013500
DTEND;TZID=Asia/Tokyo:20221030T123000
DTSTAMP:20260422T184327
CREATED:20221207T073418Z
LAST-MODIFIED:20230106T063246Z
UID:12461-1667007300-1667133000@tokyo-jc.or.jp
SUMMARY:2022年11月例会 「第37回わんぱく相撲全国大会『勇気・礼節・感謝』～心にいつもわんぱくピース！！～」
DESCRIPTION:大会スローガンは「New Challenge」コロナ禍の中、新しいことに取り組む姿勢を応援！大会イラストは、秋本治先生のご協力を賜り、「”こち亀”のトンチンカントリオ」がわんぱくピースで登場。\n\n\n\n公益社団法人東京青年会議所（所在地：東京都千代田区平河町、理事長：山本健太）は、2022年10月29日(土)・30日(日)、公益財団法人日本相撲連盟との共催にて、第37回わんぱく相撲大会『勇気・礼節・感謝』～心にいつもわんぱくピース！！！～を両国国技館にて開催いたします（https://wanpaku.or.jp/） \n\n\n\n全国193の地区予選を勝ち進んだ97チーム（モンゴルの2チーム含む）のわんぱく力士が2022年10⽉29⽇(⼟)・30日(日) に両国国技館の地で取り組みを行います。今年も大会テーマ『勇気・礼節・感謝』を継承し、勝つ喜び、負ける悔しさを経験するだけでなく、取組後に感謝の気持ちを持って互いに礼をすることで、勝ち負けに関係なく、互いを敬い思いやる心を育みます。 \n\n\n\nまた、「NEW CHALLENGE」をスローガンとしてころな禍での中でも果敢に新しいことに挑戦していく若者を応援しています。
URL:http://tokyo-jc.or.jp/regular/regular-202211/
CATEGORIES:わんぱく相撲
ATTACH;FMTTYPE=:
END:VEVENT
END:VCALENDAR