BEGIN:VCALENDAR
VERSION:2.0
PRODID:-//公益社団法人東京青年会議所｜東京JC - ECPv6.15.11//NONSGML v1.0//EN
CALSCALE:GREGORIAN
METHOD:PUBLISH
X-WR-CALNAME:公益社団法人東京青年会議所｜東京JC
X-ORIGINAL-URL:https://tokyo-jc.or.jp
X-WR-CALDESC:公益社団法人東京青年会議所｜東京JC のイベント
REFRESH-INTERVAL;VALUE=DURATION:PT1H
X-Robots-Tag:noindex
X-PUBLISHED-TTL:PT1H
BEGIN:VTIMEZONE
TZID:Asia/Tokyo
BEGIN:STANDARD
TZOFFSETFROM:+0900
TZOFFSETTO:+0900
TZNAME:JST
DTSTART:20220101T000000
END:STANDARD
END:VTIMEZONE
BEGIN:VEVENT
DTSTART;TZID=Asia/Tokyo:20230116T173000
DTEND;TZID=Asia/Tokyo:20230116T210000
DTSTAMP:20260422T170135
CREATED:20221229T002156Z
LAST-MODIFIED:20230424T061123Z
UID:18107-1673890200-1673902800@tokyo-jc.or.jp
SUMMARY:2023年度1月例会「23の輝き〜Let’s Join the Legacy of Tokyo〜」
DESCRIPTION:2023年度のJCI東京の運動について、そして2023年度のJCI東京の輝きについて発表します！
URL:/regular/regular-202301/
LOCATION:東京ドームホテル「天空」\, 日本
CATEGORIES:例会
ATTACH;FMTTYPE=image/png:https://tokyo-jc.or.jp/wp-content/uploads/banner_202301_reikai.png
END:VEVENT
BEGIN:VEVENT
DTSTART;TZID=Asia/Tokyo:20230119T000000
DTEND;TZID=Asia/Tokyo:20230122T235959
DTSTAMP:20260422T170135
CREATED:20230101T030000Z
LAST-MODIFIED:20230407T065115Z
UID:26531-1674086400-1674431999@tokyo-jc.or.jp
SUMMARY:京都会議2023｜公益社団法人日本青年会議所
DESCRIPTION:
URL:https://www.jaycee.or.jp/kyoto/#new_tab
ATTACH;FMTTYPE=:
END:VEVENT
END:VCALENDAR