BEGIN:VCALENDAR
VERSION:2.0
PRODID:-//公益社団法人東京青年会議所｜東京JC - ECPv6.15.11//NONSGML v1.0//EN
CALSCALE:GREGORIAN
METHOD:PUBLISH
X-ORIGINAL-URL:https://tokyo-jc.or.jp
X-WR-CALDESC:公益社団法人東京青年会議所｜東京JC のイベント
REFRESH-INTERVAL;VALUE=DURATION:PT1H
X-Robots-Tag:noindex
X-PUBLISHED-TTL:PT1H
BEGIN:VTIMEZONE
TZID:Asia/Tokyo
BEGIN:STANDARD
TZOFFSETFROM:+0900
TZOFFSETTO:+0900
TZNAME:JST
DTSTART:20220101T000000
END:STANDARD
END:VTIMEZONE
BEGIN:VEVENT
DTSTART;TZID=Asia/Tokyo:20230216T060000
DTEND;TZID=Asia/Tokyo:20230216T210000
DTSTAMP:20260422T152550
CREATED:20230131T014844Z
LAST-MODIFIED:20230424T061059Z
UID:19637-1676527200-1676581200@tokyo-jc.or.jp
SUMMARY:2月例会「誰やるの？私でしょ！〜これが＜新時代＞の健康経営〜」
DESCRIPTION:今求められる『#健康経営』×『#ウェルビーイング』、新時代での 持続可能な企業経営！これからの社会で求められる健康経営とは？ 【2⽉16⽇(⽊)19:00〜 参加費無料 渋沢ホールにて開催】
URL:http://tokyo-jc.or.jp/regular/regular-202302/
LOCATION:東京商⼯会議所 渋沢ホール\, 千代田区\, 丸の内3-2-2\, 東京都\, 100-0005\, 日本
CATEGORIES:例会
ATTACH;FMTTYPE=:
END:VEVENT
END:VCALENDAR