BEGIN:VCALENDAR
VERSION:2.0
PRODID:-//公益社団法人東京青年会議所｜東京JC - ECPv6.15.11//NONSGML v1.0//EN
CALSCALE:GREGORIAN
METHOD:PUBLISH
X-WR-CALNAME:公益社団法人東京青年会議所｜東京JC
X-ORIGINAL-URL:https://tokyo-jc.or.jp
X-WR-CALDESC:公益社団法人東京青年会議所｜東京JC のイベント
REFRESH-INTERVAL;VALUE=DURATION:PT1H
X-Robots-Tag:noindex
X-PUBLISHED-TTL:PT1H
BEGIN:VTIMEZONE
TZID:Asia/Tokyo
BEGIN:STANDARD
TZOFFSETFROM:+0900
TZOFFSETTO:+0900
TZNAME:JST
DTSTART:20220101T000000
END:STANDARD
END:VTIMEZONE
BEGIN:VEVENT
DTSTART;TZID=Asia/Tokyo:20230317T190000
DTEND;TZID=Asia/Tokyo:20230317T210000
DTSTAMP:20260422T134606
CREATED:20230116T042517Z
LAST-MODIFIED:20230302T080656Z
UID:19659-1679079600-1679086800@tokyo-jc.or.jp
SUMMARY:2023年度3月例会 未来を夢描き、自らの手で実現する～クリエイターが語る政治や行政と、将来のメタバース活用～
DESCRIPTION:若年層をはじめとした「政治に興味がもてない人」に対して、デジタルやテクノロジーの分野から、より身近な政治参加の手段、主催者意識の向上の新しいアプローチ方法を探っていきます。【3月17日(金)19:00～ 参加費無料 ベルサール飯田橋駅前にて開催】
URL:http://tokyo-jc.or.jp/regular/regular-202303/
CATEGORIES:例会
ATTACH;FMTTYPE=:
END:VEVENT
BEGIN:VEVENT
DTSTART;TZID=Asia/Tokyo:20230318T130000
DTEND;TZID=Asia/Tokyo:20230318T160000
DTSTAMP:20260422T134606
CREATED:20230301T030000Z
LAST-MODIFIED:20230424T061235Z
UID:23351-1679144400-1679155200@tokyo-jc.or.jp
SUMMARY:国際政策地区室｜第1回 海外連携勉強会
DESCRIPTION:
URL:http://tokyo-jc.or.jp/project-internationalpolicydistrictdepartment/
ATTACH;FMTTYPE=:
END:VEVENT
BEGIN:VEVENT
DTSTART;TZID=Asia/Tokyo:20230320T130000
DTEND;TZID=Asia/Tokyo:20230320T151000
DTSTAMP:20260422T134606
CREATED:20230317T045224Z
LAST-MODIFIED:20230317T050004Z
UID:23060-1679317200-1679325000@tokyo-jc.or.jp
SUMMARY:中央区委員会｜中⼩企業のアジア圏進出⽀援プロジェクト〜⾃社の新たな価値・魅⼒の発掘を⽬指して【海外展開勉強会①】
DESCRIPTION:
URL:http://tokyo-jc.or.jp/project/chuo/
LOCATION:NATULUCK茅場町⼆号館\, 中央区⽇本橋茅場町2-16-4 柴宗ビル\, 東京都
ATTACH;FMTTYPE=:
END:VEVENT
BEGIN:VEVENT
DTSTART;TZID=Asia/Tokyo:20230327T133000
DTEND;TZID=Asia/Tokyo:20230327T160000
DTSTAMP:20260422T134606
CREATED:20230323T055128Z
LAST-MODIFIED:20230323T055151Z
UID:24110-1679923800-1679932800@tokyo-jc.or.jp
SUMMARY:経済政策地区室｜これからの時代に、持続可能な企業とは？
DESCRIPTION:
URL:http://tokyo-jc.or.jp/economicpolicydistrictdepartment/
ATTACH;FMTTYPE=:
END:VEVENT
END:VCALENDAR