BEGIN:VCALENDAR
VERSION:2.0
PRODID:-//公益社団法人東京青年会議所｜東京JC - ECPv6.15.11//NONSGML v1.0//EN
CALSCALE:GREGORIAN
METHOD:PUBLISH
X-ORIGINAL-URL:https://tokyo-jc.or.jp
X-WR-CALDESC:公益社団法人東京青年会議所｜東京JC のイベント
REFRESH-INTERVAL;VALUE=DURATION:PT1H
X-Robots-Tag:noindex
X-PUBLISHED-TTL:PT1H
BEGIN:VTIMEZONE
TZID:Asia/Tokyo
BEGIN:STANDARD
TZOFFSETFROM:+0900
TZOFFSETTO:+0900
TZNAME:JST
DTSTART:20220101T000000
END:STANDARD
END:VTIMEZONE
BEGIN:VEVENT
DTSTART;TZID=Asia/Tokyo:20230902T170000
DTEND;TZID=Asia/Tokyo:20230902T190000
DTSTAMP:20260422T043233
CREATED:20230823T060051Z
LAST-MODIFIED:20230823T060259Z
UID:37085-1693674000-1693681200@tokyo-jc.or.jp
SUMMARY:教育政策地区室｜〜Online World trip〜異なる国々の⽂化に触れて海外のお友達を作ろう！
DESCRIPTION:
URL:http://tokyo-jc.or.jp/project-educationalpolicydistrictdepartment/
ATTACH;FMTTYPE=:
END:VEVENT
BEGIN:VEVENT
DTSTART;TZID=Asia/Tokyo:20230903T190000
DTEND;TZID=Asia/Tokyo:20230903T210000
DTSTAMP:20260422T043233
CREATED:20230116T043203Z
LAST-MODIFIED:20230116T043204Z
UID:19832-1693767600-1693774800@tokyo-jc.or.jp
SUMMARY:9月例会
DESCRIPTION:
URL:https://tokyo-jc.or.jp/schedule/9%e6%9c%88%e4%be%8b%e4%bc%9a/
ATTACH;FMTTYPE=:
END:VEVENT
BEGIN:VEVENT
DTSTART;TZID=Asia/Tokyo:20230916T130000
DTEND;TZID=Asia/Tokyo:20230916T160000
DTSTAMP:20260422T043233
CREATED:20230301T030000Z
LAST-MODIFIED:20230424T061533Z
UID:29973-1694869200-1694880000@tokyo-jc.or.jp
SUMMARY:国際政策地区室｜第5回 海外連携勉強会
DESCRIPTION:
URL:http://tokyo-jc.or.jp/project-internationalpolicydistrictdepartment/
ATTACH;FMTTYPE=:
END:VEVENT
BEGIN:VEVENT
DTSTART;TZID=Asia/Tokyo:20230923T130000
DTEND;TZID=Asia/Tokyo:20230923T160000
DTSTAMP:20260422T043233
CREATED:20230925T050644Z
LAST-MODIFIED:20230925T050645Z
UID:40862-1695474000-1695484800@tokyo-jc.or.jp
SUMMARY:豊島区委員会｜イヤでも推してね♪法哲学園～制服編～
DESCRIPTION:
URL:http://tokyo-jc.or.jp/project/toshima2023/
CATEGORIES:地区事業
ATTACH;FMTTYPE=:
END:VEVENT
BEGIN:VEVENT
DTSTART;TZID=Asia/Tokyo:20230924T100000
DTEND;TZID=Asia/Tokyo:20230924T150000
DTSTAMP:20260422T043233
CREATED:20230903T150000Z
LAST-MODIFIED:20230904T033555Z
UID:38505-1695549600-1695567600@tokyo-jc.or.jp
SUMMARY:江東区委員会｜あつまれ！教育の森！
DESCRIPTION:
URL:http://tokyo-jc.or.jp/project/koto2023/
CATEGORIES:地区事業
ATTACH;FMTTYPE=:
END:VEVENT
BEGIN:VEVENT
DTSTART;TZID=Asia/Tokyo:20230925T140000
DTEND;TZID=Asia/Tokyo:20230925T160000
DTSTAMP:20260422T043233
CREATED:20230921T030000Z
LAST-MODIFIED:20230921T071125Z
UID:39751-1695650400-1695657600@tokyo-jc.or.jp
SUMMARY:経済政策地区室｜第4回 これからの時代に、持続可能な企業とは？
DESCRIPTION:
URL:http://tokyo-jc.or.jp/project-economicpolicydistrictdepartment/
ATTACH;FMTTYPE=:
END:VEVENT
BEGIN:VEVENT
DTSTART;TZID=Asia/Tokyo:20230927T100000
DTEND;TZID=Asia/Tokyo:20230927T150000
DTSTAMP:20260422T043233
CREATED:20230920T150000Z
LAST-MODIFIED:20230921T074236Z
UID:40356-1695808800-1695826800@tokyo-jc.or.jp
SUMMARY:目黒区委員会 ｜第3回 ⽬⿊グローバルフェスティバル
DESCRIPTION:
URL:http://tokyo-jc.or.jp/project/meguro2023/
CATEGORIES:地区事業
ATTACH;FMTTYPE=:
END:VEVENT
END:VCALENDAR