BEGIN:VCALENDAR
VERSION:2.0
PRODID:-//公益社団法人東京青年会議所｜東京JC - ECPv6.15.11//NONSGML v1.0//EN
CALSCALE:GREGORIAN
METHOD:PUBLISH
X-ORIGINAL-URL:https://tokyo-jc.or.jp
X-WR-CALDESC:公益社団法人東京青年会議所｜東京JC のイベント
REFRESH-INTERVAL;VALUE=DURATION:PT1H
X-Robots-Tag:noindex
X-PUBLISHED-TTL:PT1H
BEGIN:VTIMEZONE
TZID:Asia/Tokyo
BEGIN:STANDARD
TZOFFSETFROM:+0900
TZOFFSETTO:+0900
TZNAME:JST
DTSTART:20220101T000000
END:STANDARD
END:VTIMEZONE
BEGIN:VEVENT
DTSTART;TZID=Asia/Tokyo:20231007T100000
DTEND;TZID=Asia/Tokyo:20231008T163000
DTSTAMP:20260422T030937
CREATED:20230920T150000Z
LAST-MODIFIED:20230921T074146Z
UID:19844-1696672800-1696782600@tokyo-jc.or.jp
SUMMARY:10月例会 東京未来フェス2023
DESCRIPTION:
URL:https://tokyomiraifes.com/#new_tab
ATTACH;FMTTYPE=image/png:https://tokyo-jc.or.jp/wp-content/uploads/banner_202310reikai.png
END:VEVENT
BEGIN:VEVENT
DTSTART;TZID=Asia/Tokyo:20231007T100000
DTEND;TZID=Asia/Tokyo:20231008T163000
DTSTAMP:20260422T030937
CREATED:20230920T150000Z
LAST-MODIFIED:20230920T150000Z
UID:54594-1696672800-1696782600@tokyo-jc.or.jp
SUMMARY:10月例会 東京未来フェス2023
DESCRIPTION:
URL:https://tokyomiraifes.com/#new_tab
ATTACH;FMTTYPE=image/png:https://tokyo-jc.or.jp/wp-content/uploads/banner_202310reikai.png
END:VEVENT
END:VCALENDAR