BEGIN:VCALENDAR
VERSION:2.0
PRODID:-//公益社団法人東京青年会議所｜東京JC - ECPv6.15.11//NONSGML v1.0//EN
CALSCALE:GREGORIAN
METHOD:PUBLISH
X-ORIGINAL-URL:https://tokyo-jc.or.jp
X-WR-CALDESC:公益社団法人東京青年会議所｜東京JC のイベント
REFRESH-INTERVAL;VALUE=DURATION:PT1H
X-Robots-Tag:noindex
X-PUBLISHED-TTL:PT1H
BEGIN:VTIMEZONE
TZID:Asia/Tokyo
BEGIN:STANDARD
TZOFFSETFROM:+0900
TZOFFSETTO:+0900
TZNAME:JST
DTSTART:20220101T000000
END:STANDARD
END:VTIMEZONE
BEGIN:VEVENT
DTSTART;TZID=Asia/Tokyo:20231202T190000
DTEND;TZID=Asia/Tokyo:20231202T210000
DTSTAMP:20260422T000958
CREATED:20230116T043649Z
LAST-MODIFIED:20231227T084015Z
UID:19933-1701543600-1701550800@tokyo-jc.or.jp
SUMMARY:12月例会
DESCRIPTION:
URL:https://tokyo-jc.or.jp/schedule/12%e6%9c%88%e4%be%8b%e4%bc%9a/
CATEGORIES:例会
ATTACH;FMTTYPE=:
END:VEVENT
END:VCALENDAR