BEGIN:VCALENDAR
VERSION:2.0
PRODID:-//公益社団法人東京青年会議所｜東京JC - ECPv6.15.11//NONSGML v1.0//EN
CALSCALE:GREGORIAN
METHOD:PUBLISH
X-ORIGINAL-URL:https://tokyo-jc.or.jp
X-WR-CALDESC:公益社団法人東京青年会議所｜東京JC のイベント
REFRESH-INTERVAL;VALUE=DURATION:PT1H
X-Robots-Tag:noindex
X-PUBLISHED-TTL:PT1H
BEGIN:VTIMEZONE
TZID:Asia/Tokyo
BEGIN:STANDARD
TZOFFSETFROM:+0900
TZOFFSETTO:+0900
TZNAME:JST
DTSTART:20230101T000000
END:STANDARD
END:VTIMEZONE
BEGIN:VEVENT
DTSTART;TZID=Asia/Tokyo:20240212T103000
DTEND;TZID=Asia/Tokyo:20240212T160000
DTSTAMP:20260421T204805
CREATED:20240201T150000Z
LAST-MODIFIED:20240417T060914Z
UID:44612-1707733800-1707753600@tokyo-jc.or.jp
SUMMARY:2024年度2⽉例会 ここから始まる【みんなで子育て応援宣言】～連携で創る東京のミライ～
DESCRIPTION:
URL:http://tokyo-jc.or.jp/regular/regular-202402/
CATEGORIES:例会
ATTACH;FMTTYPE=image/jpeg:https://tokyo-jc.or.jp/wp-content/uploads/202402_banner.jpg
END:VEVENT
END:VCALENDAR