BEGIN:VCALENDAR
VERSION:2.0
PRODID:-//公益社団法人東京青年会議所｜東京JC - ECPv6.15.11//NONSGML v1.0//EN
CALSCALE:GREGORIAN
METHOD:PUBLISH
X-ORIGINAL-URL:https://tokyo-jc.or.jp
X-WR-CALDESC:公益社団法人東京青年会議所｜東京JC のイベント
REFRESH-INTERVAL;VALUE=DURATION:PT1H
X-Robots-Tag:noindex
X-PUBLISHED-TTL:PT1H
BEGIN:VTIMEZONE
TZID:Asia/Tokyo
BEGIN:STANDARD
TZOFFSETFROM:+0900
TZOFFSETTO:+0900
TZNAME:JST
DTSTART:20230101T000000
END:STANDARD
END:VTIMEZONE
BEGIN:VEVENT
DTSTART;TZID=Asia/Tokyo:20240315T190000
DTEND;TZID=Asia/Tokyo:20240315T210000
DTSTAMP:20260421T191611
CREATED:20231218T061546Z
LAST-MODIFIED:20240417T061137Z
UID:44644-1710529200-1710536400@tokyo-jc.or.jp
SUMMARY:2024年度3⽉例会 〜ICTで考えよう、みんなのまちのこと〜
DESCRIPTION:
URL:http://tokyo-jc.or.jp/regular/regular-202403/
CATEGORIES:例会
ATTACH;FMTTYPE=image/png:https://tokyo-jc.or.jp/wp-content/uploads/202403_rm_banner-1.png
END:VEVENT
END:VCALENDAR