BEGIN:VCALENDAR
VERSION:2.0
PRODID:-//公益社団法人東京青年会議所｜東京JC - ECPv6.15.11//NONSGML v1.0//EN
CALSCALE:GREGORIAN
METHOD:PUBLISH
X-ORIGINAL-URL:https://tokyo-jc.or.jp
X-WR-CALDESC:公益社団法人東京青年会議所｜東京JC のイベント
REFRESH-INTERVAL;VALUE=DURATION:PT1H
X-Robots-Tag:noindex
X-PUBLISHED-TTL:PT1H
BEGIN:VTIMEZONE
TZID:Asia/Tokyo
BEGIN:STANDARD
TZOFFSETFROM:+0900
TZOFFSETTO:+0900
TZNAME:JST
DTSTART:20230101T000000
END:STANDARD
END:VTIMEZONE
BEGIN:VEVENT
DTSTART;TZID=Asia/Tokyo:20241114T183000
DTEND;TZID=Asia/Tokyo:20241114T210000
DTSTAMP:20260421T064348
CREATED:20231218T061629Z
LAST-MODIFIED:20241023T041130Z
UID:44932-1731609000-1731618000@tokyo-jc.or.jp
SUMMARY:2024年度11月例会「Legacy of Leaders.～未来を築く力～」
DESCRIPTION:
URL:http://tokyo-jc.or.jp/regular/regular-202411/
CATEGORIES:例会
ATTACH;FMTTYPE=:
END:VEVENT
END:VCALENDAR