BEGIN:VCALENDAR
VERSION:2.0
PRODID:-//公益社団法人東京青年会議所｜東京JC - ECPv6.15.11//NONSGML v1.0//EN
CALSCALE:GREGORIAN
METHOD:PUBLISH
X-ORIGINAL-URL:https://tokyo-jc.or.jp
X-WR-CALDESC:公益社団法人東京青年会議所｜東京JC のイベント
REFRESH-INTERVAL;VALUE=DURATION:PT1H
X-Robots-Tag:noindex
X-PUBLISHED-TTL:PT1H
BEGIN:VTIMEZONE
TZID:Asia/Tokyo
BEGIN:STANDARD
TZOFFSETFROM:+0900
TZOFFSETTO:+0900
TZNAME:JST
DTSTART:20230101T000000
END:STANDARD
END:VTIMEZONE
BEGIN:VEVENT
DTSTART;TZID=Asia/Tokyo:20241207T000000
DTEND;TZID=Asia/Tokyo:20241207T235959
DTSTAMP:20260421T044858
CREATED:20231218T061634Z
LAST-MODIFIED:20231218T061634Z
UID:63383-1733529600-1733615999@tokyo-jc.or.jp
SUMMARY:2024年度12月例会
DESCRIPTION:
URL:https://tokyo-jc.or.jp/schedule/2024%e5%b9%b4%e5%ba%a612%e6%9c%88%e4%be%8b%e4%bc%9a-2-2/
CATEGORIES:例会
ATTACH;FMTTYPE=:
END:VEVENT
END:VCALENDAR