BEGIN:VCALENDAR
VERSION:2.0
PRODID:-//公益社団法人東京青年会議所｜東京JC - ECPv6.15.11//NONSGML v1.0//EN
CALSCALE:GREGORIAN
METHOD:PUBLISH
X-WR-CALNAME:公益社団法人東京青年会議所｜東京JC
X-ORIGINAL-URL:https://tokyo-jc.or.jp
X-WR-CALDESC:公益社団法人東京青年会議所｜東京JC のイベント
REFRESH-INTERVAL;VALUE=DURATION:PT1H
X-Robots-Tag:noindex
X-PUBLISHED-TTL:PT1H
BEGIN:VTIMEZONE
TZID:Asia/Tokyo
BEGIN:STANDARD
TZOFFSETFROM:+0900
TZOFFSETTO:+0900
TZNAME:JST
DTSTART:20240101T000000
END:STANDARD
END:VTIMEZONE
BEGIN:VEVENT
DTSTART;TZID=Asia/Tokyo:20250114T173000
DTEND;TZID=Asia/Tokyo:20250114T204500
DTSTAMP:20260421T031050
CREATED:20241231T150000Z
LAST-MODIFIED:20250107T062325Z
UID:65207-1736875800-1736887500@tokyo-jc.or.jp
SUMMARY:2025年度1月例会｢Design Our Tokyo 〜未来のための継承〜｣
DESCRIPTION:
URL:http://tokyo-jc.or.jp/regular/regular-202501/
CATEGORIES:例会
ATTACH;FMTTYPE=:
END:VEVENT
BEGIN:VEVENT
DTSTART;TZID=Asia/Tokyo:20250127T203000
DTEND;TZID=Asia/Tokyo:20250127T220000
DTSTAMP:20260421T031050
CREATED:20250122T085833Z
LAST-MODIFIED:20250122T090041Z
UID:66555-1738009800-1738015200@tokyo-jc.or.jp
SUMMARY:千代田区長選挙ネット討論会
DESCRIPTION:
URL:http://tokyo-jc.or.jp/forum/2025chiyoda/
ATTACH;FMTTYPE=:
END:VEVENT
END:VCALENDAR