BEGIN:VCALENDAR
VERSION:2.0
PRODID:-//公益社団法人東京青年会議所｜東京JC - ECPv6.15.11//NONSGML v1.0//EN
CALSCALE:GREGORIAN
METHOD:PUBLISH
X-WR-CALNAME:公益社団法人東京青年会議所｜東京JC
X-ORIGINAL-URL:https://tokyo-jc.or.jp
X-WR-CALDESC:公益社団法人東京青年会議所｜東京JC のイベント
REFRESH-INTERVAL;VALUE=DURATION:PT1H
X-Robots-Tag:noindex
X-PUBLISHED-TTL:PT1H
BEGIN:VTIMEZONE
TZID:Asia/Tokyo
BEGIN:STANDARD
TZOFFSETFROM:+0900
TZOFFSETTO:+0900
TZNAME:JST
DTSTART:20240101T000000
END:STANDARD
END:VTIMEZONE
BEGIN:VEVENT
DTSTART;TZID=Asia/Tokyo:20250607T110000
DTEND;TZID=Asia/Tokyo:20250607T160000
DTSTAMP:20260420T192605
CREATED:20250610T073208Z
LAST-MODIFIED:20250610T073239Z
UID:67778-1749294000-1749312000@tokyo-jc.or.jp
SUMMARY:杉並区委員会｜ 学び×祭り Education Festa
DESCRIPTION:
URL:http://tokyo-jc.or.jp/project/suginami2025/
ATTACH;FMTTYPE=:
END:VEVENT
BEGIN:VEVENT
DTSTART;TZID=Asia/Tokyo:20250607T140000
DTEND;TZID=Asia/Tokyo:20250607T183000
DTSTAMP:20260420T192605
CREATED:20250430T150000Z
LAST-MODIFIED:20250501T082313Z
UID:67352-1749304800-1749321000@tokyo-jc.or.jp
SUMMARY:港区委員会｜みなとユニコーンプロジェクト2025
DESCRIPTION:
URL:http://tokyo-jc.or.jp/project/minato2025/
CATEGORIES:地区事業
ATTACH;FMTTYPE=:
END:VEVENT
BEGIN:VEVENT
DTSTART;TZID=Asia/Tokyo:20250608T130000
DTEND;TZID=Asia/Tokyo:20250608T150000
DTSTAMP:20260420T192605
CREATED:20250529T150000Z
LAST-MODIFIED:20250711T051339Z
UID:67596-1749387600-1749394800@tokyo-jc.or.jp
SUMMARY:共生政策委員会｜「共生」を「今日SAY!」ワークショップ(第1回)
DESCRIPTION:
URL:http://tokyo-jc.or.jp/policy/symbiosis/2025-kyosei-workshop/
ATTACH;FMTTYPE=:
END:VEVENT
BEGIN:VEVENT
DTSTART;TZID=Asia/Tokyo:20250619T203000
DTEND;TZID=Asia/Tokyo:20250619T220000
DTSTAMP:20260420T192605
CREATED:20250616T050134Z
LAST-MODIFIED:20250711T052435Z
UID:67896-1750365000-1750370400@tokyo-jc.or.jp
SUMMARY:港区委員会｜都議選挙公開討論会
DESCRIPTION:
URL:https://tokyo-jc.or.jp/schedule/%e6%b8%af%e5%8c%ba%e5%a7%94%e5%93%a1%e4%bc%9a%ef%bd%9c%e9%83%bd%e8%ad%b0%e9%81%b8%e6%8c%99%e5%85%ac%e9%96%8b%e8%a8%8e%e8%ab%96%e4%bc%9a/
ATTACH;FMTTYPE=:
END:VEVENT
BEGIN:VEVENT
DTSTART;TZID=Asia/Tokyo:20250619T210000
DTEND;TZID=Asia/Tokyo:20250619T223000
DTSTAMP:20260420T192605
CREATED:20250616T050027Z
LAST-MODIFIED:20250711T052520Z
UID:67894-1750366800-1750372200@tokyo-jc.or.jp
SUMMARY:中野区委員会｜中野区公開討論会
DESCRIPTION:
URL:https://tokyo-jc.or.jp/schedule/%e4%b8%ad%e9%87%8e%e5%8c%ba%e5%a7%94%e5%93%a1%e4%bc%9a%ef%bd%9c%e4%b8%ad%e9%87%8e%e5%8c%ba%e5%85%ac%e9%96%8b%e8%a8%8e%e8%ab%96%e4%bc%9a/
ATTACH;FMTTYPE=:
END:VEVENT
BEGIN:VEVENT
DTSTART;TZID=Asia/Tokyo:20250620T181500
DTEND;TZID=Asia/Tokyo:20250620T201500
DTSTAMP:20260420T192605
CREATED:20241231T150000Z
LAST-MODIFIED:20250611T034202Z
UID:65225-1750443300-1750450500@tokyo-jc.or.jp
SUMMARY:2025年度6月例会
DESCRIPTION:
URL:http://tokyo-jc.or.jp/regular/regular-202506/
CATEGORIES:例会
ATTACH;FMTTYPE=:
END:VEVENT
BEGIN:VEVENT
DTSTART;TZID=Asia/Tokyo:20250627T110000
DTEND;TZID=Asia/Tokyo:20250627T200000
DTSTAMP:20260420T192605
CREATED:20250606T011130Z
LAST-MODIFIED:20250711T051508Z
UID:67708-1751022000-1751054400@tokyo-jc.or.jp
SUMMARY:台東区委員会｜STEAM FESTIVAL〜音と色でつなぐ未来のワークショップ〜
DESCRIPTION:
URL:http://tokyo-jc.or.jp/project/taito2025/
CATEGORIES:地区事業
ATTACH;FMTTYPE=:
END:VEVENT
BEGIN:VEVENT
DTSTART;TZID=Asia/Tokyo:20250628T100000
DTEND;TZID=Asia/Tokyo:20250628T180000
DTSTAMP:20260420T192605
CREATED:20250606T011311Z
LAST-MODIFIED:20250711T051446Z
UID:67710-1751104800-1751133600@tokyo-jc.or.jp
SUMMARY:台東区委員会｜STEAM FESTIVAL〜音と色でつなぐ未来のワークショップ〜
DESCRIPTION:
URL:http://tokyo-jc.or.jp/project/taito2025/
CATEGORIES:地区事業
ATTACH;FMTTYPE=:
END:VEVENT
BEGIN:VEVENT
DTSTART;TZID=Asia/Tokyo:20250628T130000
DTEND;TZID=Asia/Tokyo:20250628T183000
DTSTAMP:20260420T192605
CREATED:20250711T053830Z
LAST-MODIFIED:20250711T053832Z
UID:68256-1751115600-1751135400@tokyo-jc.or.jp
SUMMARY:大田区委員会｜おおたユニコーンプロジェクト
DESCRIPTION:
URL:https://tokyo-jc.or.jp/schedule/%e5%a4%a7%e7%94%b0%e5%8c%ba%e5%a7%94%e5%93%a1%e4%bc%9a%ef%bd%9c%e3%81%8a%e3%81%8a%e3%81%9f%e3%83%a6%e3%83%8b%e3%82%b3%e3%83%bc%e3%83%b3%e3%83%97%e3%83%ad%e3%82%b8%e3%82%a7%e3%82%af%e3%83%88/
ATTACH;FMTTYPE=:
END:VEVENT
END:VCALENDAR